BEGIN:VCALENDAR
PRODID:-//welante.ch-isi/ical//2.0/DE
VERSION:2.0
CALSCALE:GREGORIAN
BEGIN:VEVENT
UID:9e219fa080432455e9dc084ad3528547
DTSTAMP:20260420T102626Z
SUMMARY:25-09-LJC Leadership Journal Club – deine Plattform für Führung
 swissen und Praxis
DESCRIPTION:Mit: Weber René\, René Weber Coaching & Beratung GmbH\n\nWeit
 ere Termine:\nDi 02.09.2025 18:30 - 20:00\nDi 21.10.2025 18:30 - 20:00\nDi
  03.02.2026 18:30 - 20:00\nDi 17.03.2026 18:30 - 20:00\nDi 30.06.2026 18:3
 0 - 20:00
DTSTART:20250902T183000
DTEND:20250902T200000
LOCATION:3. Stock (Demetrio)\, Raum «Don Marcello»\, institut für system
 ische impulse\, entwicklung und führung gmbh
END:VEVENT
END:VCALENDAR
