BEGIN:VCALENDAR
PRODID:-//welante.ch-isi/ical//2.0/DE
VERSION:2.0
CALSCALE:GREGORIAN
BEGIN:VEVENT
UID:d927a0683b54b7f2f355cc3fde3b6fed
DTSTAMP:20260420T132617Z
SUMMARY:26-04-BE13 Systemtheorie und Beratungspraxis
DESCRIPTION:Mit: Romano Roger\, institut für systemische impulse\, entwick
 lung und führung gmbh\, Groth Torsten\, Groth-Consulting\n\nWeitere Termi
 ne:\nDi 21.04.2026 09:30 - 17:30\nMi 22.04.2026 09:30 - 17:30
DTSTART:20260421T093000
DTEND:20260421T173000
LOCATION:3. Stock (Demetrio)\, Raum «Don Marcello»\, institut für system
 ische impulse\, entwicklung und führung gmbh
END:VEVENT
END:VCALENDAR
