BEGIN:VCALENDAR
PRODID:-//welante.ch-isi/ical//2.0/DE
VERSION:2.0
CALSCALE:GREGORIAN
BEGIN:VEVENT
UID:85bad7e5c44445fee5f9bc6be0883000
DTSTAMP:20260420T130436Z
SUMMARY:26-04-BE2 Organisationen systemisch verstehen
DESCRIPTION:Mit: Groth Torsten\, Groth-Consulting\, Romano Roger\, institut
  für systemische impulse\, entwicklung und führung gmbh\n\nWeitere Termi
 ne:\nDo 23.04.2026 09:30 - 17:30\nFr 24.04.2026 09:30 - 17:30
DTSTART:20260423T093000
DTEND:20260423T173000
LOCATION:3. Stock (Demetrio)\, Raum «Don Marcello»\, institut für system
 ische impulse\, entwicklung und führung gmbh
END:VEVENT
END:VCALENDAR
