BEGIN:VCALENDAR
PRODID:-//welante.ch-isi/ical//2.0/DE
VERSION:2.0
CALSCALE:GREGORIAN
BEGIN:VEVENT
UID:0a8ff054bac094d8dbce3a0d11ca551f
DTSTAMP:20260420T130333Z
SUMMARY:26-04-RM2 Präsenz und Wirksamkeit in Konflikten
DESCRIPTION:Mit: Scharfenberger Stephan\, König Ursula\, TopikPro Fribourg
 \n\nWeitere Termine:\nMi 29.04.2026 09:30 - 17:30\nDo 30.04.2026 09:30 - 1
 8:00\nFr 01.05.2026 09:30 - 17:00
DTSTART:20260429T093000
DTEND:20260429T173000
LOCATION:3. Stock (Demetrio)\, Raum «Don Marcello»\, institut für system
 ische impulse\, entwicklung und führung gmbh
END:VEVENT
END:VCALENDAR
