BEGIN:VCALENDAR
PRODID:-//welante.ch-isi/ical//2.0/DE
VERSION:2.0
CALSCALE:GREGORIAN
BEGIN:VEVENT
UID:129780576d0ac5737a590cb84184c318
DTSTAMP:20260420T130656Z
SUMMARY:26-05-BE4 Organisationsentwicklung: Grundlagen und Zugänge
DESCRIPTION:Mit: Seefeldt Claudia\, isi\, Serfass Annika\n\nWeitere Termine
 :\nMi 20.05.2026 09:30 - 17:30\nDo 21.05.2026 09:30 - 17:30
DTSTART:20260520T093000
DTEND:20260520T173000
LOCATION:3. Stock (Demetrio)\, Raum «Don Marcello»\, institut für system
 ische impulse\, entwicklung und führung gmbh
END:VEVENT
END:VCALENDAR
