BEGIN:VCALENDAR
PRODID:-//welante.ch-isi/ical//2.0/DE
VERSION:2.0
CALSCALE:GREGORIAN
BEGIN:VEVENT
UID:45aac2cef0d270d7092c57da013c7dd2
DTSTAMP:20260420T132125Z
SUMMARY:26-05-INFO1 Virtueller Info-Lunch: Dienstag\, 12. Mai 2026\, 12 Uhr
  (via Zoom)
DESCRIPTION:Mit: Lusti Hansjürg\, isi
DTSTART:20260512T120000
DTEND:20260512T130000
LOCATION:Durchführung via Zoom
END:VEVENT
END:VCALENDAR
