BEGIN:VCALENDAR
PRODID:-//welante.ch-isi/ical//2.0/DE
VERSION:2.0
CALSCALE:GREGORIAN
BEGIN:VEVENT
UID:7fb85879a2221c088b20e30b249cd02f
DTSTAMP:20260420T125255Z
SUMMARY:26-06-AL Alumni-zMorgä
DESCRIPTION:Mit: Strehler Nuria\, Kanton Zürich
DTSTART:20260628T100000
DTEND:20260628T120000
LOCATION:3. Stock (Demetrio)\, Raum «Don Marcello»\, institut für system
 ische impulse\, entwicklung und führung gmbh
END:VEVENT
END:VCALENDAR
