BEGIN:VCALENDAR
PRODID:-//welante.ch-isi/ical//2.0/DE
VERSION:2.0
CALSCALE:GREGORIAN
BEGIN:VEVENT
UID:52221c924f368bdc5599673cdc00648e
DTSTAMP:20260420T132608Z
SUMMARY:26-06-BE5 (Beyond) Leadership
DESCRIPTION:Mit: Seefeldt Claudia\, isi\, Lusti Hansjürg\, isi\n\nWeitere 
 Termine:\nFr 19.06.2026 09:30 - 17:30\nSa 20.06.2026 09:30 - 17:30
DTSTART:20260619T093000
DTEND:20260619T173000
LOCATION:3. Stock (Demetrio)\, Raum «Don Marcello»\, institut für system
 ische impulse\, entwicklung und führung gmbh
END:VEVENT
END:VCALENDAR
