BEGIN:VCALENDAR
PRODID:-//welante.ch-isi/ical//2.0/DE
VERSION:2.0
CALSCALE:GREGORIAN
BEGIN:VEVENT
UID:9dfbd6694f45c2ce7e2a0ef5e967c5d3
DTSTAMP:20260420T132915Z
SUMMARY:26-06-CO1 Coaching Praxis I-III + Live (Paket)
DESCRIPTION:Mit: Gaio Simone\, Simone Gaio GmbH\, Lusti Hansjürg\, isi\n\n
 Weitere Termine:\nFr 12.06.2026 09:30 - 17:30\nSa 13.06.2026 09:30 - 17:30
 \nFr 10.07.2026 09:30 - 17:30\nSa 11.07.2026 09:30 - 17:30\nFr 04.09.2026 
 09:30 - 17:30\nSa 05.09.2026 09:30 - 17:30\nFr 02.10.2026 09:30 - 17:30\nS
 a 03.10.2026 09:30 - 17:30
DTSTART:20260612T093000
DTEND:20260612T173000
LOCATION:3. Stock (Demetrio)\, Raum «Don Marcello»\, institut für system
 ische impulse\, entwicklung und führung gmbh
END:VEVENT
END:VCALENDAR
