BEGIN:VCALENDAR
PRODID:-//welante.ch-isi/ical//2.0/DE
VERSION:2.0
CALSCALE:GREGORIAN
BEGIN:VEVENT
UID:238087352c3954b0505af4a10704f464
DTSTAMP:20260420T125052Z
SUMMARY:26-06-RM1 Biografien in Perspektiven
DESCRIPTION:Mit: Seefeldt Claudia\, isi\, Thelen Herwig\, praxis herwig the
 len\n\nWeitere Termine:\nDo 25.06.2026 09:30 - 17:30\nFr 26.06.2026 09:00 
 - 17:30\nSa 27.06.2026 09:30 - 16:45
DTSTART:20260625T093000
DTEND:20260625T173000
LOCATION:3. Stock (Demetrio)\, Raum «Don Marcello»\, institut für system
 ische impulse\, entwicklung und führung gmbh
END:VEVENT
END:VCALENDAR
