BEGIN:VCALENDAR
PRODID:-//welante.ch-isi/ical//2.0/DE
VERSION:2.0
CALSCALE:GREGORIAN
BEGIN:VEVENT
UID:73ff87871fca0c7c2874a826db85901f
DTSTAMP:20260420T132712Z
SUMMARY:26-07-BE6 Change – zwischen Kunst und Handwerk
DESCRIPTION:Mit: Romano Roger\, institut für systemische impulse\, entwick
 lung und führung gmbh\, Schulze Beate M.\, Schulze Resource Consulting\n\
 nWeitere Termine:\nMo 06.07.2026 09:30 - 17:30\nDi 07.07.2026 09:30 - 17:3
 0
DTSTART:20260706T093000
DTEND:20260706T173000
LOCATION:3. Stock (Demetrio)\, Raum «Don Marcello»\, institut für system
 ische impulse\, entwicklung und führung gmbh
END:VEVENT
END:VCALENDAR
