BEGIN:VCALENDAR
PRODID:-//welante.ch-isi/ical//2.0/DE
VERSION:2.0
CALSCALE:GREGORIAN
BEGIN:VEVENT
UID:fb2b4cee4f520ceb86fd2e6e78a51501
DTSTAMP:20260420T132916Z
SUMMARY:26-08-CO7 Coaching in Organisationen
DESCRIPTION:Mit: Romano Roger\, institut für systemische impulse\, entwick
 lung und führung gmbh\, Wunderlin Simone\, S.C. – Wunderlin Beratung & 
 Coaching\n\nWeitere Termine:\nFr 21.08.2026 09:30 - 17:30\nSa 22.08.2026 0
 9:30 - 17:30
DTSTART:20260821T093000
DTEND:20260821T173000
LOCATION:3. Stock (Demetrio)\, Raum «Don Marcello»\, institut für system
 ische impulse\, entwicklung und führung gmbh
END:VEVENT
END:VCALENDAR
