BEGIN:VCALENDAR
PRODID:-//welante.ch-isi/ical//2.0/DE
VERSION:2.0
CALSCALE:GREGORIAN
BEGIN:VEVENT
UID:bbbefba2d64de8d5a346b363e1183ae4
DTSTAMP:20260420T132937Z
SUMMARY:26-08-CO7-2 Coaching in Organisationen
DESCRIPTION:Mit: Romano Roger\, institut für systemische impulse\, entwick
 lung und führung gmbh\, Wunderlin Simone\, S.C. – Wunderlin Beratung & 
 Coaching\n\nWeitere Termine:\nDi 18.08.2026 09:30 - 17:30\nMi 19.08.2026 0
 9:30 - 17:30
DTSTART:20260818T093000
DTEND:20260818T173000
LOCATION:3. Stock (Demetrio)\, Raum «Don Marcello»\, institut für system
 ische impulse\, entwicklung und führung gmbh
END:VEVENT
END:VCALENDAR
