BEGIN:VCALENDAR
PRODID:-//welante.ch-isi/ical//2.0/DE
VERSION:2.0
CALSCALE:GREGORIAN
BEGIN:VEVENT
UID:fbcc545010aab647930f50205f2a66cd
DTSTAMP:20260420T102408Z
SUMMARY:26-08-LJC Leadership Journal Club – deine Plattform für Führung
 swissen und Praxis
DESCRIPTION:Mit: Weber René\, René Weber Coaching & Beratung GmbH\n\nWeit
 ere Termine:\nDi 25.08.2026 18:30 - 20:00\nDi 03.11.2026 18:30 - 20:00\nDi
  19.01.2027 18:30 - 20:00\nDi 16.03.2027 18:30 - 20:00\nDi 25.05.2027 18:3
 0 - 20:00\nDi 06.07.2027 18:30 - 20:00
DTSTART:20260825T183000
DTEND:20260825T200000
LOCATION:3. Stock (Demetrio)\, Raum «Don Marcello»\, institut für system
 ische impulse\, entwicklung und führung gmbh
END:VEVENT
END:VCALENDAR
