BEGIN:VCALENDAR
PRODID:-//welante.ch-isi/ical//2.0/DE
VERSION:2.0
CALSCALE:GREGORIAN
BEGIN:VEVENT
UID:5b0cd68f971c1468a49bfd3c4dfb0f55
DTSTAMP:20260420T125015Z
SUMMARY:26-09-AL Alumni-Treffen
DESCRIPTION:Mit: Strehler Nuria\, Kanton Zürich
DTSTART:20260909T183000
DTEND:20260909T203000
LOCATION:3. Stock (Demetrio)\, Raum «Don Marcello»\, institut für system
 ische impulse\, entwicklung und führung gmbh
END:VEVENT
END:VCALENDAR
