BEGIN:VCALENDAR
PRODID:-//welante.ch-isi/ical//2.0/DE
VERSION:2.0
CALSCALE:GREGORIAN
BEGIN:VEVENT
UID:fbdb9fdf0fa76faecab3813e919cfe95
DTSTAMP:20260420T132830Z
SUMMARY:26-09-BE1 Co-Kreation von wirksamen Beratungsprozessen
DESCRIPTION:Mit: Lusti Hansjürg\, isi\, Seefeldt Claudia\, isi\n\nWeitere 
 Termine:\nMo 21.09.2026 09:30 - 17:30\nDi 22.09.2026 09:30 - 17:30
DTSTART:20260921T093000
DTEND:20260921T173000
LOCATION:3. Stock (Demetrio)\, Raum «Don Marcello»\, institut für system
 ische impulse\, entwicklung und führung gmbh
END:VEVENT
END:VCALENDAR
