BEGIN:VCALENDAR
PRODID:-//welante.ch-isi/ical//2.0/DE
VERSION:2.0
CALSCALE:GREGORIAN
BEGIN:VEVENT
UID:beb5ea4aa014dcc9849f61d640e36a5b
DTSTAMP:20260420T132937Z
SUMMARY:26-09-CO1 Coaching Praxis I-III + Live (Paket)
DESCRIPTION:Mit: Gaio Simone\, Simone Gaio GmbH\, Lusti Hansjürg\, isi\n\n
 Weitere Termine:\nFr 25.09.2026 09:30 - 17:30\nSa 26.09.2026 09:30 - 17:30
 \nFr 23.10.2026 09:30 - 17:30\nSa 24.10.2026 09:30 - 17:30\nFr 20.11.2026 
 09:30 - 17:30\nSa 21.11.2026 09:30 - 17:30\nFr 11.12.2026 09:30 - 17:30\nS
 a 12.12.2026 09:30 - 17:30
DTSTART:20260925T093000
DTEND:20260925T173000
LOCATION:3. Stock (Demetrio)\, Raum «Don Marcello»\, institut für system
 ische impulse\, entwicklung und führung gmbh
END:VEVENT
END:VCALENDAR
