BEGIN:VCALENDAR
PRODID:-//welante.ch-isi/ical//2.0/DE
VERSION:2.0
CALSCALE:GREGORIAN
BEGIN:VEVENT
UID:7b47ad79b6248981191f2e7cee2c70be
DTSTAMP:20260420T132453Z
SUMMARY:26-09-ES3 Systemtheorie – ein anderer Blick auf die Welt
DESCRIPTION:Mit: Romano Roger\, institut für systemische impulse\, entwick
 lung und führung gmbh\, Kummer Annemarie\, akw/entwicklung & beratung\n\n
 Weitere Termine:\nMo 07.09.2026 09:30 - 17:30\nDi 08.09.2026 09:30 - 17:30
DTSTART:20260907T093000
DTEND:20260907T173000
LOCATION:3. Stock (Demetrio)\, Raum «Don Marcello»\, institut für system
 ische impulse\, entwicklung und führung gmbh
END:VEVENT
END:VCALENDAR
