BEGIN:VCALENDAR
PRODID:-//welante.ch-isi/ical//2.0/DE
VERSION:2.0
CALSCALE:GREGORIAN
BEGIN:VEVENT
UID:cde5416ebca510ffb82727f54aa36858
DTSTAMP:20260420T132835Z
SUMMARY:26-09-TB12 Mit (psychologischer und innerer) Sicherheit erfolgreich
 er zusammenarbeiten
DESCRIPTION:Mit: Maier Joachim\n\nWeitere Termine:\nFr 11.09.2026 09:30 - 1
 7:30\nSa 12.09.2026 09:30 - 17:30
DTSTART:20260911T093000
DTEND:20260911T173000
LOCATION:3. Stock (Demetrio)\, Raum «Don Marcello»\, institut für system
 ische impulse\, entwicklung und führung gmbh
END:VEVENT
END:VCALENDAR
