BEGIN:VCALENDAR
PRODID:-//welante.ch-isi/ical//2.0/DE
VERSION:2.0
CALSCALE:GREGORIAN
BEGIN:VEVENT
UID:37515083a0d0a2e9d5a43512d4cdd06d
DTSTAMP:20260424T084352Z
SUMMARY:26-10-BP1 Lösungsorientiertes Training mit Ben Furman
DESCRIPTION:Mit: Furman Ben
DTSTART:20261017T093000
DTEND:20261017T171500
LOCATION:3. Stock (Demetrio)\, Raum «Don Marcello»\, institut für system
 ische impulse\, entwicklung und führung gmbh
END:VEVENT
END:VCALENDAR
