BEGIN:VCALENDAR
PRODID:-//welante.ch-isi/ical//2.0/DE
VERSION:2.0
CALSCALE:GREGORIAN
BEGIN:VEVENT
UID:7bc5014b675d0c105562ff85db10071c
DTSTAMP:20260420T125815Z
SUMMARY:26-10-TB13 Liberating Structures Advanced
DESCRIPTION:Mit: Steinhöfer Daniel\, Befreiende Strukturen\n\nWeitere Term
 ine:\nFr 09.10.2026 09:30 - 17:30\nSa 10.10.2026 09:30 - 17:30
DTSTART:20261009T093000
DTEND:20261009T173000
LOCATION:3. Stock (Demetrio)\, Raum «Don Marcello»\, institut für system
 ische impulse\, entwicklung und führung gmbh
END:VEVENT
END:VCALENDAR
