BEGIN:VCALENDAR
PRODID:-//welante.ch-isi/ical//2.0/DE
VERSION:2.0
CALSCALE:GREGORIAN
BEGIN:VEVENT
UID:ab633a5cf1f3ab6af5009ebd4bde1ad4
DTSTAMP:20260420T130717Z
SUMMARY:26-11-BE15 Teamentwicklung und Teamcoaching
DESCRIPTION:Mit: Lusti Hansjürg\, isi\, Thomas Konstanze\n\nWeitere Termin
 e:\nMi 25.11.2026 09:30 - 17:30\nDo 26.11.2026 09:30 - 17:30
DTSTART:20261125T093000
DTEND:20261125T173000
LOCATION:3. Stock (Demetrio)\, Raum «Don Marcello»\, institut für system
 ische impulse\, entwicklung und führung gmbh
END:VEVENT
END:VCALENDAR
