BEGIN:VCALENDAR
PRODID:-//welante.ch-isi/ical//2.0/DE
VERSION:2.0
CALSCALE:GREGORIAN
BEGIN:VEVENT
UID:166d97089c4306351b5b4213618f6668
DTSTAMP:20260420T101554Z
SUMMARY:26-11-COSF5 Embodied Beratung\, Coaching & Leadership
DESCRIPTION:Mit: Scherrer Stephan\, Praxis Seegarten\n\nWeitere Termine:\nD
 o 05.11.2026 09:30 - 17:30\nFr 06.11.2026 09:30 - 17:30
DTSTART:20261105T093000
DTEND:20261105T173000
LOCATION:3. Stock (Demetrio)\, Raum «Don Marcello»\, institut für system
 ische impulse\, entwicklung und führung gmbh
END:VEVENT
END:VCALENDAR
