BEGIN:VCALENDAR
PRODID:-//welante.ch-isi/ical//2.0/DE
VERSION:2.0
CALSCALE:GREGORIAN
BEGIN:VEVENT
UID:42f79c7291a4c751d6df23ac1a8beba8
DTSTAMP:20260420T132421Z
SUMMARY:26-11-ES2 Von Menschen und Systemen
DESCRIPTION:Mit: Seefeldt Claudia\, isi\, Lusti Hansjürg\, isi\n\nWeitere 
 Termine:\nMo 09.11.2026 09:30 - 17:30\nDi 10.11.2026 09:30 - 17:30
DTSTART:20261109T093000
DTEND:20261109T173000
LOCATION:3. Stock (Demetrio)\, Raum «Don Marcello»\, institut für system
 ische impulse\, entwicklung und führung gmbh
END:VEVENT
END:VCALENDAR
