BEGIN:VCALENDAR
PRODID:-//welante.ch-isi/ical//2.0/DE
VERSION:2.0
CALSCALE:GREGORIAN
BEGIN:VEVENT
UID:b6b55c5df978db7642722e4e74bf406e
DTSTAMP:20260420T130416Z
SUMMARY:26-11-RM2 Präsenz und Wirksamkeit in Konflikten
DESCRIPTION:Mit: Scharfenberger Stephan\, König Ursula\, TopikPro Fribourg
 \n\nWeitere Termine:\nMi 11.11.2026 09:30 - 17:30\nDo 12.11.2026 09:30 - 1
 8:00\nFr 13.11.2026 09:30 - 17:00
DTSTART:20261111T093000
DTEND:20261111T173000
LOCATION:3. Stock (Demetrio)\, Raum «Don Marcello»\, institut für system
 ische impulse\, entwicklung und führung gmbh
END:VEVENT
END:VCALENDAR
