BEGIN:VCALENDAR
PRODID:-//welante.ch-isi/ical//2.0/DE
VERSION:2.0
CALSCALE:GREGORIAN
BEGIN:VEVENT
UID:fd5e38eca3ef9c7d3f9718c2a49c5abb
DTSTAMP:20260420T132624Z
SUMMARY:26-11-TB3 Soziokratie 3.0
DESCRIPTION:Mit: Kessler Reto\, Now.New.Next.
DTSTART:20261130T093000
DTEND:20261130T173000
LOCATION:3. Stock (Demetrio)\, Raum «Don Marcello»\, institut für system
 ische impulse\, entwicklung und führung gmbh
END:VEVENT
END:VCALENDAR
