BEGIN:VCALENDAR
PRODID:-//welante.ch-isi/ical//2.0/DE
VERSION:2.0
CALSCALE:GREGORIAN
BEGIN:VEVENT
UID:23a81b6a70e4a8e7ba60dcfd402779fd
DTSTAMP:20260420T132712Z
SUMMARY:26-11-VM17 Die Kunst und das Handwerk des Paradoxiemanagements
DESCRIPTION:Mit: Groth Torsten\, Groth-Consulting\, Richter Timm\, swf Simo
 n Weber Friends\n\nWeitere Termine:\nMi 18.11.2026 09:30 - 17:30\nDo 19.11
 .2026 09:30 - 17:30
DTSTART:20261118T093000
DTEND:20261118T173000
LOCATION:3. Stock (Demetrio)\, Raum «Don Marcello»\, institut für system
 ische impulse\, entwicklung und führung gmbh
END:VEVENT
END:VCALENDAR
