BEGIN:VCALENDAR
PRODID:-//welante.ch-isi/ical//2.0/DE
VERSION:2.0
CALSCALE:GREGORIAN
BEGIN:VEVENT
UID:f2fa8e21b943725651cc57288aa4d885
DTSTAMP:20260420T125441Z
SUMMARY:26-12-TB15 Organisation – was ist das? Einführung in die Metathe
 orie der Veränderung
DESCRIPTION:Mit: Eidenschink Klaus\, HEPHAISTOS\n\nWeitere Termine:\nMi 09.
 12.2026 09:30 - 17:30\nDo 10.12.2026 09:30 - 17:30
DTSTART:20261209T093000
DTEND:20261209T173000
LOCATION:3. Stock (Demetrio)\, Raum «Don Marcello»\, institut für system
 ische impulse\, entwicklung und führung gmbh
END:VEVENT
END:VCALENDAR
