BEGIN:VCALENDAR
PRODID:-//welante.ch-isi/ical//2.0/DE
VERSION:2.0
CALSCALE:GREGORIAN
BEGIN:VEVENT
UID:8198212e61d3c0aff5be64ecdcfd3e15
DTSTAMP:20260420T130630Z
SUMMARY:27-01-BE9 (Re-)Designing Change
DESCRIPTION:Mit: Serfass Annika\, Romano Roger\, institut für systemische 
 impulse\, entwicklung und führung gmbh\n\nWeitere Termine:\nMo 11.01.2027
  09:30 - 17:30\nDi 12.01.2027 09:30 - 17:30
DTSTART:20270111T093000
DTEND:20270111T173000
LOCATION:3. Stock (Demetrio)\, Raum «Don Marcello»\, institut für system
 ische impulse\, entwicklung und führung gmbh
END:VEVENT
END:VCALENDAR
