BEGIN:VCALENDAR
PRODID:-//welante.ch-isi/ical//2.0/DE
VERSION:2.0
CALSCALE:GREGORIAN
BEGIN:VEVENT
UID:ce3530b9bfaf296ffa8b9e781b8ea539
DTSTAMP:20260420T132835Z
SUMMARY:27-01-CO1 Coaching Praxis I-III + Live (Paket)
DESCRIPTION:Mit: Gaio Simone\, Simone Gaio GmbH\, Lusti Hansjürg\, isi\n\n
 Weitere Termine:\nMo 18.01.2027 09:30 - 17:30\nDi 19.01.2027 09:30 - 17:30
 \nMo 22.02.2027 09:30 - 17:30\nDi 23.02.2027 09:30 - 17:30\nMo 22.03.2027 
 09:30 - 17:30\nDi 23.03.2027 09:30 - 17:30\nMo 19.04.2027 09:30 - 17:30\nD
 i 20.04.2027 09:30 - 17:30
DTSTART:20270118T093000
DTEND:20270118T173000
LOCATION:3. Stock (Demetrio)\, Raum «Don Marcello»\, institut für system
 ische impulse\, entwicklung und führung gmbh
END:VEVENT
END:VCALENDAR
