BEGIN:VCALENDAR
PRODID:-//welante.ch-isi/ical//2.0/DE
VERSION:2.0
CALSCALE:GREGORIAN
BEGIN:VEVENT
UID:2f2cc1c2a36d2b15d45c60d7cd8dc244
DTSTAMP:20260420T132437Z
SUMMARY:27-01-ES3 Systemtheorie – ein anderer Blick auf die Welt
DESCRIPTION:Mit: Romano Roger\, institut für systemische impulse\, entwick
 lung und führung gmbh\, Kummer Annemarie\, akw/entwicklung & beratung\n\n
 Weitere Termine:\nMi 20.01.2027 09:30 - 17:30\nDo 21.01.2027 09:30 - 17:30
DTSTART:20270120T093000
DTEND:20270120T173000
LOCATION:3. Stock (Demetrio)\, Raum «Don Marcello»\, institut für system
 ische impulse\, entwicklung und führung gmbh
END:VEVENT
END:VCALENDAR
