BEGIN:VCALENDAR
PRODID:-//welante.ch-isi/ical//2.0/DE
VERSION:2.0
CALSCALE:GREGORIAN
BEGIN:VEVENT
UID:7a44c75e8940457be63335dd29140ab1
DTSTAMP:20260420T125744Z
SUMMARY:27-01-RL Reinventing Leadership
DESCRIPTION:Mit: Seefeldt Claudia\, isi\, Lusti Hansjürg\, isi\, Romano Ro
 ger\, institut für systemische impulse\, entwicklung und führung gmbh\, 
 Morlock Kathrin\, morlock & co. GmbH\, Weber René\, René Weber Coaching 
 & Beratung GmbH\n\nWeitere Termine:\nFr 15.01.2027 09:30 - 17:30\nSa 16.01
 .2027 09:30 - 17:30\nMi 27.01.2027 19:00 - 20:30\nMo 08.02.2027 09:30 - 17
 :30\nMi 10.03.2027 19:00 - 20:30\nDo 15.04.2027 09:30 - 17:30\nDi 11.05.20
 27 19:00 - 20:30\nDo 20.05.2027 09:30 - 17:30\nMo 28.06.2027 09:30 - 17:30
 \nDi 29.06.2027 09:30 - 17:30
DTSTART:20270115T093000
DTEND:20270115T173000
LOCATION:3. Stock (Demetrio)\, Raum «Don Marcello»\, institut für system
 ische impulse\, entwicklung und führung gmbh
END:VEVENT
END:VCALENDAR
