BEGIN:VCALENDAR
PRODID:-//welante.ch-isi/ical//2.0/DE
VERSION:2.0
CALSCALE:GREGORIAN
BEGIN:VEVENT
UID:0df8c9af02ac527b913c4a9b59f7f8c7
DTSTAMP:20260420T125517Z
SUMMARY:27-01-RM1 Biografien in Perspektiven
DESCRIPTION:Mit: Seefeldt Claudia\, isi\, Thelen Herwig\, praxis herwig the
 len\n\nWeitere Termine:\nMo 25.01.2027 09:30 - 17:30\nDi 26.01.2027 09:00 
 - 17:30\nMi 27.01.2027 09:30 - 16:45
DTSTART:20270125T093000
DTEND:20270125T173000
LOCATION:3. Stock (Demetrio)\, Raum «Don Marcello»\, institut für system
 ische impulse\, entwicklung und führung gmbh
END:VEVENT
END:VCALENDAR
