BEGIN:VCALENDAR
PRODID:-//welante.ch-isi/ical//2.0/DE
VERSION:2.0
CALSCALE:GREGORIAN
BEGIN:VEVENT
UID:73ecd125635b5420897c231bd46bbe94
DTSTAMP:20260420T132631Z
SUMMARY:27-02-BE14 Methoden der (Fall-)Supervision
DESCRIPTION:Mit: Spengler Uta\, Wissen.Methoden.Sinn. GmbH\, Bernsau Markus
 \n\nWeitere Termine:\nFr 26.02.2027 09:30 - 17:30\nSa 27.02.2027 09:30 - 1
 7:30
DTSTART:20270226T093000
DTEND:20270226T173000
LOCATION:3. Stock (Demetrio)\, Raum «Don Marcello»\, institut für system
 ische impulse\, entwicklung und führung gmbh
END:VEVENT
END:VCALENDAR
