BEGIN:VCALENDAR
PRODID:-//welante.ch-isi/ical//2.0/DE
VERSION:2.0
CALSCALE:GREGORIAN
BEGIN:VEVENT
UID:36db540a6902819912f671df6a121c63
DTSTAMP:20260420T132738Z
SUMMARY:27-02-BE16 Future Work
DESCRIPTION:Mit: Lusti Hansjürg\, isi\, Kopp Nicole\, GoBeyond Consulting 
 AG\n\nWeitere Termine:\nDo 04.02.2027 09:30 - 17:30\nFr 05.02.2027 09:30 -
  17:30
DTSTART:20270204T093000
DTEND:20270204T173000
LOCATION:3. Stock (Demetrio)\, Raum «Don Marcello»\, institut für system
 ische impulse\, entwicklung und führung gmbh
END:VEVENT
END:VCALENDAR
