BEGIN:VCALENDAR
PRODID:-//welante.ch-isi/ical//2.0/DE
VERSION:2.0
CALSCALE:GREGORIAN
BEGIN:VEVENT
UID:be518c0cf978a6d290b7baa946f141b3
DTSTAMP:20260420T132327Z
SUMMARY:27-03-AK-BSO Abschlusskolloquium für Organisationsberater*innen & 
 Supervisor*innen BSO
DESCRIPTION:Mit: Seefeldt Claudia\, isi\, Lusti Hansjürg\, isi\n\nWeitere 
 Termine:\nFr 12.03.2027 09:30 - 17:30\nSa 13.03.2027 09:30 - 17:30
DTSTART:20270312T093000
DTEND:20270312T173000
LOCATION:3. Stock (Demetrio)\, Raum «Don Marcello»\, institut für system
 ische impulse\, entwicklung und führung gmbh
END:VEVENT
END:VCALENDAR
