BEGIN:VCALENDAR
PRODID:-//welante.ch-isi/ical//2.0/DE
VERSION:2.0
CALSCALE:GREGORIAN
BEGIN:VEVENT
UID:e14407b2d97930e16475573eb1cf0ee7
DTSTAMP:20260420T132738Z
SUMMARY:27-03-BE1 Co-Kreation von wirksamen Beratungsprozessen
DESCRIPTION:Mit: Lusti Hansjürg\, isi\, Seefeldt Claudia\, isi\n\nWeitere 
 Termine:\nMi 03.03.2027 09:30 - 17:30\nDo 04.03.2027 09:30 - 17:30
DTSTART:20270303T093000
DTEND:20270303T173000
LOCATION:3. Stock (Demetrio)\, Raum «Don Marcello»\, institut für system
 ische impulse\, entwicklung und führung gmbh
END:VEVENT
END:VCALENDAR
