BEGIN:VCALENDAR
PRODID:-//welante.ch-isi/ical//2.0/DE
VERSION:2.0
CALSCALE:GREGORIAN
BEGIN:VEVENT
UID:025db01c8228a297451c622a873ba15d
DTSTAMP:20260420T130707Z
SUMMARY:27-03-BE4 Organisationsentwicklung: Grundlagen und Zugänge
DESCRIPTION:Mit: Seefeldt Claudia\, isi\, Serfass Annika\n\nWeitere Termine
 :\nMi 31.03.2027 09:30 - 17:30\nDo 01.04.2027 09:30 - 17:30
DTSTART:20270331T093000
DTEND:20270331T173000
LOCATION:3. Stock (Demetrio)\, Raum «Don Marcello»\, institut für system
 ische impulse\, entwicklung und führung gmbh
END:VEVENT
END:VCALENDAR
