BEGIN:VCALENDAR
PRODID:-//welante.ch-isi/ical//2.0/DE
VERSION:2.0
CALSCALE:GREGORIAN
BEGIN:VEVENT
UID:39e521c68f76dd33797986bdc71fff02
DTSTAMP:20260420T130241Z
SUMMARY:27-03-SySt Systemische Strukturaufstellungen I-IV + AK
DESCRIPTION:Mit: von Wirth Timo\, Gerhards Sandra\, König Ursula\, TopikPr
 o Fribourg\, Ruppen Dominik\n\nWeitere Termine:\nFr 05.03.2027 09:30 - 17:
 30\nSa 06.03.2027 09:30 - 17:30\nMi 21.04.2027 09:30 - 17:30\nDo 22.04.202
 7 09:30 - 17:30\nMi 30.06.2027 09:30 - 17:30\nDo 01.07.2027 09:30 - 17:30\
 nFr 20.08.2027 09:30 - 17:30\nSa 21.08.2027 09:30 - 17:30\nSa 09.10.2027 0
 9:30 - 17:30
DTSTART:20270305T093000
DTEND:20270305T173000
LOCATION:3. Stock (Demetrio)\, Raum «Don Marcello»\, institut für system
 ische impulse\, entwicklung und führung gmbh
END:VEVENT
END:VCALENDAR
