BEGIN:VCALENDAR
PRODID:-//welante.ch-isi/ical//2.0/DE
VERSION:2.0
CALSCALE:GREGORIAN
BEGIN:VEVENT
UID:fd308c075ec3b9cecd9a6c206e180907
DTSTAMP:20260420T132239Z
SUMMARY:27-04-CO1 Coaching Praxis I-III + Live (Paket)
DESCRIPTION:Mit: Gaio Simone\, Simone Gaio GmbH\, Lusti Hansjürg\, isi\n\n
 Weitere Termine:\nFr 23.04.2027 09:30 - 17:30\nSa 24.04.2027 09:30 - 17:30
 \nFr 21.05.2027 09:30 - 17:30\nSa 22.05.2027 09:30 - 17:30\nFr 11.06.2027 
 09:30 - 17:30\nSa 12.06.2027 09:30 - 17:30\nFr 02.07.2027 09:30 - 17:30\nS
 a 03.07.2027 09:30 - 17:30
DTSTART:20270423T093000
DTEND:20270423T173000
LOCATION:3. Stock (Demetrio)\, Raum «Don Marcello»\, institut für system
 ische impulse\, entwicklung und führung gmbh
END:VEVENT
END:VCALENDAR
