BEGIN:VCALENDAR
PRODID:-//welante.ch-isi/ical//2.0/DE
VERSION:2.0
CALSCALE:GREGORIAN
BEGIN:VEVENT
UID:26571ca3a1fe780b464193e3672f6254
DTSTAMP:20260420T132802Z
SUMMARY:27-04-CO7 Coaching in Organisationen
DESCRIPTION:Mit: Romano Roger\, institut für systemische impulse\, entwick
 lung und führung gmbh\, Wunderlin Simone\, S.C. – Wunderlin Beratung & 
 Coaching\n\nWeitere Termine:\nDi 27.04.2027 09:30 - 17:30\nMi 28.04.2027 0
 9:30 - 17:30
DTSTART:20270427T093000
DTEND:20270427T173000
LOCATION:3. Stock (Demetrio)\, Raum «Don Marcello»\, institut für system
 ische impulse\, entwicklung und führung gmbh
END:VEVENT
END:VCALENDAR
