BEGIN:VCALENDAR
PRODID:-//welante.ch-isi/ical//2.0/DE
VERSION:2.0
CALSCALE:GREGORIAN
BEGIN:VEVENT
UID:9e20075c077f3098f68ad2822517be87
DTSTAMP:20260420T150647Z
SUMMARY:27-04-RM3 Dynamiken in Gruppen (inkl. Übernachtungs-/Essenspauscha
 le von ca. CHF 600.–)
DESCRIPTION:Mit: Romano Roger\, institut für systemische impulse\, entwick
 lung und führung gmbh\, Benz Maier Regula\, Consysto\n\nWeitere Termine:\
 nDi 20.04.2027 17:00 - 21:00\nMi 21.04.2027 08:30 - 21:30\nDo 22.04.2027 0
 8:30 - 17:30\nFr 23.04.2027 08:30 - 21:30\nSa 24.04.2027 08:30 - 15:00
DTSTART:20270420T170000
DTEND:20270420T210000
LOCATION:Convento Santuario Santa Maria dei frati cappuccini
END:VEVENT
END:VCALENDAR
