BEGIN:VCALENDAR
PRODID:-//welante.ch-isi/ical//2.0/DE
VERSION:2.0
CALSCALE:GREGORIAN
BEGIN:VEVENT
UID:1344cc6d0157296b11809ce4150d2837
DTSTAMP:20260420T132624Z
SUMMARY:27-05-BE7 Konflikte verstehen und regulieren
DESCRIPTION:Mit: Lusti Hansjürg\, isi\, Burgstaller Adriana\, www.adrianab
 urgstaller.ch\n\nWeitere Termine:\nDi 11.05.2027 09:30 - 17:30\nMi 12.05.2
 027 09:30 - 17:30
DTSTART:20270511T093000
DTEND:20270511T173000
LOCATION:3. Stock (Demetrio)\, Raum «Don Marcello»\, institut für system
 ische impulse\, entwicklung und führung gmbh
END:VEVENT
END:VCALENDAR
