BEGIN:VCALENDAR
PRODID:-//welante.ch-isi/ical//2.0/DE
VERSION:2.0
CALSCALE:GREGORIAN
BEGIN:VEVENT
UID:3c2502b13838dd738a25017b7de27708
DTSTAMP:20260420T130339Z
SUMMARY:27-05-RM2 Präsenz und Wirksamkeit in Konflikten
DESCRIPTION:Mit: Scharfenberger Stephan\, König Ursula\, TopikPro Fribourg
 \n\nWeitere Termine:\nMo 03.05.2027 09:30 - 17:30\nDi 04.05.2027 09:30 - 1
 8:00\nMi 05.05.2027 09:30 - 17:00
DTSTART:20270503T093000
DTEND:20270503T173000
LOCATION:3. Stock (Demetrio)\, Raum «Don Marcello»\, institut für system
 ische impulse\, entwicklung und führung gmbh
END:VEVENT
END:VCALENDAR
