BEGIN:VCALENDAR
PRODID:-//welante.ch-isi/ical//2.0/DE
VERSION:2.0
CALSCALE:GREGORIAN
BEGIN:VEVENT
UID:06b1398369ee48cda5134bbf8185292b
DTSTAMP:20260420T132830Z
SUMMARY:27-06-BE13 Systemtheorie und Beratungspraxis
DESCRIPTION:Mit: Romano Roger\, institut für systemische impulse\, entwick
 lung und führung gmbh\, Groth Torsten\, Groth-Consulting\n\nWeitere Termi
 ne:\nDo 24.06.2027 09:30 - 17:30\nFr 25.06.2027 09:30 - 17:30
DTSTART:20270624T093000
DTEND:20270624T173000
LOCATION:3. Stock (Demetrio)\, Raum «Don Marcello»\, institut für system
 ische impulse\, entwicklung und führung gmbh
END:VEVENT
END:VCALENDAR
