BEGIN:VCALENDAR
PRODID:-//welante.ch-isi/ical//2.0/DE
VERSION:2.0
CALSCALE:GREGORIAN
BEGIN:VEVENT
UID:ec7ac67a3fed33a7d0f4f6e5422eb5a1
DTSTAMP:20260420T130517Z
SUMMARY:27-06-BE2 Organisationen systemisch verstehen
DESCRIPTION:Mit: Groth Torsten\, Groth-Consulting\, Romano Roger\, institut
  für systemische impulse\, entwicklung und führung gmbh\n\nWeitere Termi
 ne:\nDi 22.06.2027 09:30 - 17:30\nMi 23.06.2027 09:30 - 17:30
DTSTART:20270622T093000
DTEND:20270622T173000
LOCATION:3. Stock (Demetrio)\, Raum «Don Marcello»\, institut für system
 ische impulse\, entwicklung und führung gmbh
END:VEVENT
END:VCALENDAR
