BEGIN:VCALENDAR
PRODID:-//welante.ch-isi/ical//2.0/DE
VERSION:2.0
CALSCALE:GREGORIAN
BEGIN:VEVENT
UID:c05b7d0e4abd36e41b52e32db574282b
DTSTAMP:20260420T132608Z
SUMMARY:27-06-BE5 (Beyond) Leadership
DESCRIPTION:Mit: Seefeldt Claudia\, isi\, Lusti Hansjürg\, isi\n\nWeitere 
 Termine:\nDo 03.06.2027 09:30 - 17:30\nFr 04.06.2027 09:30 - 17:30
DTSTART:20270603T093000
DTEND:20270603T173000
LOCATION:3. Stock (Demetrio)\, Raum «Don Marcello»\, institut für system
 ische impulse\, entwicklung und führung gmbh
END:VEVENT
END:VCALENDAR
