BEGIN:VCALENDAR
PRODID:-//welante.ch-isi/ical//2.0/DE
VERSION:2.0
CALSCALE:GREGORIAN
BEGIN:VEVENT
UID:21af57b17fc1a2d752b8f76286945c89
DTSTAMP:20260420T132421Z
SUMMARY:27-06-ES2 Von Menschen und Systemen
DESCRIPTION:Mit: Seefeldt Claudia\, isi\, Lusti Hansjürg\, isi\n\nWeitere 
 Termine:\nFr 18.06.2027 09:30 - 17:30\nSa 19.06.2027 09:30 - 17:30
DTSTART:20270618T093000
DTEND:20270618T173000
LOCATION:3. Stock (Demetrio)\, Raum «Don Marcello»\, institut für system
 ische impulse\, entwicklung und führung gmbh
END:VEVENT
END:VCALENDAR
