BEGIN:VCALENDAR
PRODID:-//welante.ch-isi/ical//2.0/DE
VERSION:2.0
CALSCALE:GREGORIAN
BEGIN:VEVENT
UID:46a1120596060ee4677770e50f0e63f0
DTSTAMP:20260420T124807Z
SUMMARY:27-06-VM15 CoResolve mit Deep Democracy 2x2 Tage
DESCRIPTION:Mit: Leiste Christiane\, Lean-in GmbH\, Bertram Andreas\, Lean-
 in GmbH\n\nWeitere Termine:\nMo 14.06.2027 09:30 - 17:30\nDi 15.06.2027 09
 :30 - 17:30\nMo 20.09.2027 09:30 - 17:30\nDi 21.09.2027 09:30 - 17:30
DTSTART:20270614T093000
DTEND:20270614T173000
LOCATION:3. Stock (Demetrio)\, Raum «Don Marcello»\, institut für system
 ische impulse\, entwicklung und führung gmbh
END:VEVENT
END:VCALENDAR
