BEGIN:VCALENDAR
PRODID:-//welante.ch-isi/ical//2.0/DE
VERSION:2.0
CALSCALE:GREGORIAN
BEGIN:VEVENT
UID:352ed0235c4d629f32eb9f86557f87f3
DTSTAMP:20260420T125637Z
SUMMARY:27-07-TB15 Organisation – was ist das? Einführung in die Metathe
 orie der Veränderung
DESCRIPTION:Mit: Eidenschink Klaus\, HEPHAISTOS\, Capol Andrea\, Capol Cons
 ulting\n\nWeitere Termine:\nMo 05.07.2027 09:30 - 17:30\nDi 06.07.2027 09:
 30 - 17:30
DTSTART:20270705T093000
DTEND:20270705T173000
LOCATION:3. Stock (Demetrio)\, Raum «Don Marcello»\, institut für system
 ische impulse\, entwicklung und führung gmbh
END:VEVENT
END:VCALENDAR
